BEGIN:VCALENDAR
PRODID:-//Victory-Lakeland/Calendar//EN
CALSCALE:GREGORIAN
VERSION:2.0
METHOD:PUBLISH
TRANSP:TRANSPARENT
X-WR-CALNAME:GrowTrack Begins Again September 13!
X-WR-TIMEZONE:America/New_York
BEGIN:VEVENT
UID:e58fe27e-54e2-42f1-8268-8b2b419a1414
DTSTAMP:20200913T104500
DTSTART:20200913T104500
DTEND:20200913T114500
SUMMARY:GrowTrack Begins Again September 13!
URL:https://victorylakeland.org/events/classes/growtrack-begins-again
END:VEVENT
END:VCALENDAR