BEGIN:VCALENDAR
PRODID:-//Victory-Lakeland/Calendar//EN
CALSCALE:GREGORIAN
VERSION:2.0
METHOD:PUBLISH
TRANSP:TRANSPARENT
X-WR-CALNAME:Thrive Women's Conference
X-WR-TIMEZONE:America/New_York
BEGIN:VEVENT
UID:df876bc0-6c22-406a-b715-c8d179c79047
DTSTAMP:20211021T000000
DTSTART:20211021T000000
DTEND:20211023T235959
SUMMARY:Thrive Women's Conference
URL:https://victorylakeland.org/events/all-church/thrive-womens-conference
END:VEVENT
END:VCALENDAR