BEGIN:VCALENDAR
PRODID:-//Victory-Lakeland/Calendar//EN
CALSCALE:GREGORIAN
VERSION:2.0
METHOD:PUBLISH
TRANSP:TRANSPARENT
X-WR-CALNAME:Christmas Decorating 2021
X-WR-TIMEZONE:America/New_York
BEGIN:VEVENT
UID:10322621-e89c-472f-88f6-c6fb7a83568b
DTSTAMP:20211122T090000
DTSTART:20211122T090000
DTEND:20211123T090000
SUMMARY:Christmas Decorating 2021
URL:https://victorylakeland.org/events/north-campus/christmas-decorating-20
	21
END:VEVENT
END:VCALENDAR