BEGIN:VCALENDAR
PRODID:-//Victory-Lakeland/Calendar//EN
CALSCALE:GREGORIAN
VERSION:2.0
METHOD:PUBLISH
TRANSP:TRANSPARENT
X-WR-CALNAME:VBS 2023
X-WR-TIMEZONE:America/New_York
BEGIN:VEVENT
UID:f9fa9300-f9f8-49fe-9983-d44471eef3b5
DTSTAMP:20230625T173000
DTSTART:20230625T173000
DTEND:20230628T173000
SUMMARY:VBS 2023
URL:https://victorylakeland.org/events/kids/vbs-2023
END:VEVENT
END:VCALENDAR