BEGIN:VCALENDAR
PRODID:-//Victory-Lakeland/Calendar//EN
CALSCALE:GREGORIAN
VERSION:2.0
METHOD:PUBLISH
TRANSP:TRANSPARENT
X-WR-CALNAME:Baptism at Victory's North Campus, Oct. 1
X-WR-TIMEZONE:America/New_York
BEGIN:VEVENT
UID:cd9a4ec2-bb44-49ff-9c26-7453c1c6ba63
DTSTAMP:20231001T090000
DTSTART:20231001T090000
DTEND:20231001T120000
SUMMARY:Baptism at Victory's North Campus, Oct. 1
URL:https://victorylakeland.org/events/all-church/baptism-at-victorys-north
	-campus-oct-2023
END:VEVENT
END:VCALENDAR