BEGIN:VCALENDAR
PRODID:-//Victory-Lakeland/Calendar//EN
CALSCALE:GREGORIAN
VERSION:2.0
METHOD:PUBLISH
TRANSP:TRANSPARENT
X-WR-CALNAME:Ballet Magnificat
X-WR-TIMEZONE:America/New_York
BEGIN:VEVENT
UID:61eaedf8-1513-4dd7-a5b2-1faeb1705f8b
DTSTAMP:20240302T190000
DTSTART:20240302T190000
DTEND:20240302T210000
SUMMARY:Ballet Magnificat
URL:https://victorylakeland.org/events/all-church/ballet-magnificat
END:VEVENT
END:VCALENDAR