BEGIN:VCALENDAR
PRODID:-//Victory-Lakeland/Calendar//EN
CALSCALE:GREGORIAN
VERSION:2.0
METHOD:PUBLISH
TRANSP:TRANSPARENT
X-WR-CALNAME:Victory Kids Ice Cream in the Park
X-WR-TIMEZONE:America/New_York
BEGIN:VEVENT
UID:2c0136bc-10b0-4a95-9156-fd7ef7769c22
DTSTAMP:20250318T100000
DTSTART:20250318T100000
DTEND:20250318T110000
SUMMARY:Victory Kids Ice Cream in the Park
URL:https://victorylakeland.org/events/kids/victory-kids-ice-cream-in-the-p
	ark-2025
END:VEVENT
END:VCALENDAR