BEGIN:VCALENDAR
PRODID:-//Victory-Lakeland/Calendar//EN
CALSCALE:GREGORIAN
VERSION:2.0
METHOD:PUBLISH
TRANSP:TRANSPARENT
X-WR-CALNAME:VBS 2024
X-WR-TIMEZONE:America/New_York
BEGIN:VEVENT
UID:8d2ac4b2-0215-4da7-9606-76f1b4dbcfb0
DTSTAMP:20240623T173000
DTSTART:20240623T173000
DTEND:20240626T200000
SUMMARY:VBS 2024
URL:https://victorylakeland.org/events/kids/vbs-2024
END:VEVENT
END:VCALENDAR