BEGIN:VCALENDAR
PRODID:-//Victory-Lakeland/Calendar//EN
CALSCALE:GREGORIAN
VERSION:2.0
METHOD:PUBLISH
TRANSP:TRANSPARENT
X-WR-CALNAME:Baptism - Sunday, August 18
X-WR-TIMEZONE:America/New_York
BEGIN:VEVENT
UID:8f0f5932-0173-4a60-8c5a-2801b61b6253
DTSTAMP:20240818T090000
DTSTART:20240818T090000
DTEND:20240818T120000
SUMMARY:Baptism - Sunday, August 18
URL:https://victorylakeland.org/events/all-church/baptism-sunday-august-18-
	2024
END:VEVENT
END:VCALENDAR