BEGIN:VCALENDAR
PRODID:-//Victory-Lakeland/Calendar//EN
CALSCALE:GREGORIAN
VERSION:2.0
METHOD:PUBLISH
TRANSP:TRANSPARENT
X-WR-CALNAME:RESCHEDULED: Moms Paint Along Party 2024
X-WR-TIMEZONE:America/New_York
BEGIN:VEVENT
UID:f2fe8fa5-63e9-4402-9f9e-38a85c13f55c
DTSTAMP:20241102T130000
DTSTART:20241102T130000
DTEND:20241102T150000
SUMMARY:RESCHEDULED: Moms Paint Along Party 2024
URL:https://victorylakeland.org/events/all-church/midweek-moms-paint-along-
	party-2024
END:VEVENT
END:VCALENDAR