BEGIN:VCALENDAR
PRODID:-//Victory-Lakeland/Calendar//EN
CALSCALE:GREGORIAN
VERSION:2.0
METHOD:PUBLISH
TRANSP:TRANSPARENT
X-WR-CALNAME:College & Young Adults Turkey Bowl 2024
X-WR-TIMEZONE:America/New_York
BEGIN:VEVENT
UID:a3c750df-3768-4cff-b068-58f4c4490a4f
DTSTAMP:20241117T140000
DTSTART:20241117T140000
DTEND:20241117T160000
SUMMARY:College & Young Adults Turkey Bowl 2024
URL:https://victorylakeland.org/events/all-church/college-young-adults-turk
	ey-bowl-2024
END:VEVENT
END:VCALENDAR