BEGIN:VCALENDAR
PRODID:-//Victory-Lakeland/Calendar//EN
CALSCALE:GREGORIAN
VERSION:2.0
METHOD:PUBLISH
TRANSP:TRANSPARENT
X-WR-CALNAME:Widow's Ministry Tea Party 2025
X-WR-TIMEZONE:America/New_York
BEGIN:VEVENT
UID:9fb50fb5-1210-40c0-b9e3-48c97799d8ff
DTSTAMP:20250308T120000
DTSTART:20250308T120000
DTEND:20250308T133000
SUMMARY:Widow's Ministry Tea Party 2025
URL:https://victorylakeland.org/events/all-church/widows-ministry-tea-party
	-2025
END:VEVENT
END:VCALENDAR