BEGIN:VCALENDAR
PRODID:-//Victory-Lakeland/Calendar//EN
CALSCALE:GREGORIAN
VERSION:2.0
METHOD:PUBLISH
TRANSP:TRANSPARENT
X-WR-CALNAME:Found Collective Women's Conference 2025
X-WR-TIMEZONE:America/New_York
BEGIN:VEVENT
UID:e45a96d5-c370-478f-9c01-e2f55f615391
DTSTAMP:20250321T170000
DTSTART:20250321T170000
DTEND:20250322T123000
SUMMARY:Found Collective Women's Conference 2025
URL:https://victorylakeland.org/events/all-church/found-collective-womens-c
	onference-2025
END:VEVENT
END:VCALENDAR