BEGIN:VCALENDAR
PRODID:-//Victory-Lakeland/Calendar//EN
CALSCALE:GREGORIAN
VERSION:2.0
METHOD:PUBLISH
TRANSP:TRANSPARENT
X-WR-CALNAME:Widow's Ministry "Hat Luncheon," 2025
X-WR-TIMEZONE:America/New_York
BEGIN:VEVENT
UID:ac2d3cb1-b484-43fa-97fd-83afdb4eb01e
DTSTAMP:20250607T120000
DTSTART:20250607T120000
DTEND:20250607T133000
SUMMARY:Widow's Ministry "Hat Luncheon," 2025
URL:https://victorylakeland.org/events/all-church/widows-ministry-hat-lunch
	eon-2025
END:VEVENT
END:VCALENDAR