BEGIN:VCALENDAR
PRODID:-//Victory-Lakeland/Calendar//EN
CALSCALE:GREGORIAN
VERSION:2.0
METHOD:PUBLISH
TRANSP:TRANSPARENT
X-WR-CALNAME:Ballet Magnificat - "The Call"
X-WR-TIMEZONE:America/New_York
BEGIN:VEVENT
UID:2ef0a441-7afe-4133-bfb8-880626f2cb9b
DTSTAMP:20251024T190000
DTSTART:20251024T190000
DTEND:20251024T210000
SUMMARY:Ballet Magnificat - "The Call"
URL:https://victorylakeland.org/events/all-church/ballet-magnificat---the-c
	all
END:VEVENT
END:VCALENDAR