BEGIN:VCALENDAR
PRODID:-//Victory-Lakeland/Calendar//EN
CALSCALE:GREGORIAN
VERSION:2.0
METHOD:PUBLISH
TRANSP:TRANSPARENT
X-WR-CALNAME:College & Young Adults Grill & Chill
X-WR-TIMEZONE:America/New_York
BEGIN:VEVENT
UID:2df48bb9-24e7-482a-887f-c28b1aecf1a4
DTSTAMP:20250921T140000
DTSTART:20250921T140000
DTEND:20250921T180000
SUMMARY:College & Young Adults Grill & Chill
URL:https://victorylakeland.org/events/all-church/college-young-adults-gril
	l-chill
END:VEVENT
END:VCALENDAR