BEGIN:VCALENDAR
PRODID:-//Victory-Lakeland/Calendar//EN
CALSCALE:GREGORIAN
VERSION:2.0
METHOD:PUBLISH
TRANSP:TRANSPARENT
X-WR-CALNAME:GrowTrack Super Sunday, October 2025
X-WR-TIMEZONE:America/New_York
BEGIN:VEVENT
UID:88badc71-db45-411d-9901-3303d1835619
DTSTAMP:20251012T123000
DTSTART:20251012T123000
DTEND:20251012T163000
SUMMARY:GrowTrack Super Sunday, October 2025
URL:https://victorylakeland.org/events/south-campus/growtrack-super-sunday-
	october-2025
END:VEVENT
END:VCALENDAR