BEGIN:VCALENDAR
PRODID:-//Victory-Lakeland/Calendar//EN
CALSCALE:GREGORIAN
VERSION:2.0
METHOD:PUBLISH
TRANSP:TRANSPARENT
X-WR-CALNAME:Tauren Wells Concert
X-WR-TIMEZONE:America/New_York
BEGIN:VEVENT
UID:4e232f60-e950-43bf-8df6-2877d5edb0c6
DTSTAMP:20260507T190000
DTSTART:20260507T190000
DTEND:20260507T220000
SUMMARY:Tauren Wells Concert
URL:https://victorylakeland.org/events/all-church/tauren-wells-concert
END:VEVENT
END:VCALENDAR