BEGIN:VCALENDAR
PRODID:-//Victory-Lakeland/Calendar//EN
CALSCALE:GREGORIAN
VERSION:2.0
METHOD:PUBLISH
TRANSP:TRANSPARENT
X-WR-CALNAME:Light for the Lost Missions Banquet 2026
X-WR-TIMEZONE:America/New_York
BEGIN:VEVENT
UID:bfcf633c-6341-40cf-961d-68410d8e6026
DTSTAMP:20260223T183000
DTSTART:20260223T183000
DTEND:20260223T200000
SUMMARY:Light for the Lost Missions Banquet 2026
URL:https://victorylakeland.org/events/all-church/light-for-the-lost-missio
	ns-banquet-2026
END:VEVENT
END:VCALENDAR