BEGIN:VCALENDAR
PRODID:-//Victory-Lakeland/Calendar//EN
CALSCALE:GREGORIAN
VERSION:2.0
METHOD:PUBLISH
TRANSP:TRANSPARENT
X-WR-CALNAME:Victory Student Church Middle School All-Nighter, 2026
X-WR-TIMEZONE:America/New_York
BEGIN:VEVENT
UID:ad195c71-f12d-4a51-87cb-e9ea1c45e0f1
DTSTAMP:20260306T190000
DTSTART:20260306T190000
DTEND:20260307T070000
SUMMARY:Victory Student Church Middle School All-Nighter, 2026
URL:https://victorylakeland.org/events/students/vsc-mid-all-nighter-2026
END:VEVENT
END:VCALENDAR