BEGIN:VCALENDAR
PRODID:-//Victory-Lakeland/Calendar//EN
CALSCALE:GREGORIAN
VERSION:2.0
METHOD:PUBLISH
TRANSP:TRANSPARENT
X-WR-CALNAME:Widow's Ministry Tea Party 2026
X-WR-TIMEZONE:America/New_York
BEGIN:VEVENT
UID:d23931c4-51a4-42ae-86ec-385a7e611ceb
DTSTAMP:20260307T120000
DTSTART:20260307T120000
DTEND:20260307T133000
SUMMARY:Widow's Ministry Tea Party 2026
URL:https://victorylakeland.org/events/all-church/widows-ministry-tea-party
	-2026
END:VEVENT
END:VCALENDAR