BEGIN:VCALENDAR
PRODID:-//Victory-Lakeland/Calendar//EN
CALSCALE:GREGORIAN
VERSION:2.0
METHOD:PUBLISH
TRANSP:TRANSPARENT
X-WR-CALNAME:Baptism Sunday- April 12, 2026
X-WR-TIMEZONE:America/New_York
BEGIN:VEVENT
UID:01870217-f62f-4184-81ae-883038c08392
DTSTAMP:20260412T090000
DTSTART:20260412T090000
DTEND:20260412T120000
SUMMARY:Baptism Sunday- April 12, 2026
URL:https://victorylakeland.org/events/all-church/baptism-sunday-april-12-2
	026
END:VEVENT
END:VCALENDAR