BEGIN:VCALENDAR
PRODID:-//Victory-Lakeland/Calendar//EN
CALSCALE:GREGORIAN
VERSION:2.0
METHOD:PUBLISH
TRANSP:TRANSPARENT
X-WR-CALNAME:Student Church Summer Camp 2026
X-WR-TIMEZONE:America/New_York
BEGIN:VEVENT
UID:dad389e1-8196-401b-a261-58c808c94aae
DTSTAMP:20260622T000000
DTSTART:20260622T000000
DTEND:20260626T235959
SUMMARY:Student Church Summer Camp 2026
URL:https://victorylakeland.org/events/students/student-church-summer-camp-
	2026
END:VEVENT
END:VCALENDAR