BEGIN:VCALENDAR
PRODID:-//Victory-Lakeland/Calendar//EN
CALSCALE:GREGORIAN
VERSION:2.0
METHOD:PUBLISH
TRANSP:TRANSPARENT
X-WR-CALNAME:Dream Center Volunteer Day
X-WR-TIMEZONE:America/New_York
BEGIN:VEVENT
UID:95ea676b-2e29-4b5b-8c55-643e9156310e
DTSTAMP:20260502T090000
DTSTART:20260502T090000
DTEND:20260502T120000
SUMMARY:Dream Center Volunteer Day
URL:https://victorylakeland.org/events/outreach/dream-center-volunteer-day-
	may-2026
END:VEVENT
END:VCALENDAR